BEGIN:VCALENDAR
VERSION:2.0
PRODID:-// - ECPv6.15.20//NONSGML v1.0//EN
CALSCALE:GREGORIAN
METHOD:PUBLISH
X-ORIGINAL-URL:https://covechurch.com
X-WR-CALDESC:Events for 
REFRESH-INTERVAL;VALUE=DURATION:PT1H
X-Robots-Tag:noindex
X-PUBLISHED-TTL:PT1H
BEGIN:VTIMEZONE
TZID:America/Chicago
BEGIN:DAYLIGHT
TZOFFSETFROM:-0600
TZOFFSETTO:-0500
TZNAME:CDT
DTSTART:20240310T080000
END:DAYLIGHT
BEGIN:STANDARD
TZOFFSETFROM:-0500
TZOFFSETTO:-0600
TZNAME:CST
DTSTART:20241103T070000
END:STANDARD
BEGIN:DAYLIGHT
TZOFFSETFROM:-0600
TZOFFSETTO:-0500
TZNAME:CDT
DTSTART:20250309T080000
END:DAYLIGHT
BEGIN:STANDARD
TZOFFSETFROM:-0500
TZOFFSETTO:-0600
TZNAME:CST
DTSTART:20251102T070000
END:STANDARD
BEGIN:DAYLIGHT
TZOFFSETFROM:-0600
TZOFFSETTO:-0500
TZNAME:CDT
DTSTART:20260308T080000
END:DAYLIGHT
BEGIN:STANDARD
TZOFFSETFROM:-0500
TZOFFSETTO:-0600
TZNAME:CST
DTSTART:20261101T070000
END:STANDARD
END:VTIMEZONE
BEGIN:VEVENT
DTSTART;TZID=America/Chicago:20251026T170000
DTEND;TZID=America/Chicago:20251026T190000
DTSTAMP:20260425T193520
CREATED:20250916T191846Z
LAST-MODIFIED:20251026T192526Z
UID:10000357-1761498000-1761505200@covechurch.com
SUMMARY:Trunk or Treat
DESCRIPTION:Get ready for our annual Trunk or Treat\, a fun-filled night for the whole family! This event offers kids in our community a safe and welcoming place to enjoy Halloween\, and also allows families to connect. Whether you’ve been attending Cove Church for years or this is your first time on our lawn\, we want you to feel right at home. \nOur parking lot will be filled with creative\, candy-filled trunks hosted by our amazing volunteers. We’ll have lawn games and Monsters\, Inc. showing on the front lawn. The movie starts at 6pm. Don’t forget your blanket or chair. From BBQ to pizza and hot dogs\, enjoy delicious options from local food trucks. It’s the perfect event to make memories and meet new friends. \n2pm weather update: Trunk or Treat is still a go! We’ll see you from 5-7pm. 
URL:https://covechurch.com/event/trunk-or-treat/
LOCATION:Cove Church Parking Lot\, 366 Old Highway 431\, Owens Cross Roads\, AL
CATEGORIES:Community Ministries,Cove Students,Kids Cove
ATTACH;FMTTYPE=image/png:https://covechurch.com/wp-content/uploads/2025/09/TrunkOrTreat_Circle.png
END:VEVENT
END:VCALENDAR