BEGIN:VCALENDAR
VERSION:2.0
PRODID:-// - ECPv6.15.20//NONSGML v1.0//EN
CALSCALE:GREGORIAN
METHOD:PUBLISH
X-ORIGINAL-URL:https://covechurch.com
X-WR-CALDESC:Events for 
REFRESH-INTERVAL;VALUE=DURATION:PT1H
X-Robots-Tag:noindex
X-PUBLISHED-TTL:PT1H
BEGIN:VTIMEZONE
TZID:America/Chicago
BEGIN:DAYLIGHT
TZOFFSETFROM:-0600
TZOFFSETTO:-0500
TZNAME:CDT
DTSTART:20250309T080000
END:DAYLIGHT
BEGIN:STANDARD
TZOFFSETFROM:-0500
TZOFFSETTO:-0600
TZNAME:CST
DTSTART:20251102T070000
END:STANDARD
BEGIN:DAYLIGHT
TZOFFSETFROM:-0600
TZOFFSETTO:-0500
TZNAME:CDT
DTSTART:20260308T080000
END:DAYLIGHT
BEGIN:STANDARD
TZOFFSETFROM:-0500
TZOFFSETTO:-0600
TZNAME:CST
DTSTART:20261101T070000
END:STANDARD
BEGIN:DAYLIGHT
TZOFFSETFROM:-0600
TZOFFSETTO:-0500
TZNAME:CDT
DTSTART:20270314T080000
END:DAYLIGHT
BEGIN:STANDARD
TZOFFSETFROM:-0500
TZOFFSETTO:-0600
TZNAME:CST
DTSTART:20271107T070000
END:STANDARD
END:VTIMEZONE
BEGIN:VEVENT
DTSTART;TZID=America/Chicago:20260426T090000
DTEND;TZID=America/Chicago:20260426T120000
DTSTAMP:20260425T113731
CREATED:20260107T171009Z
LAST-MODIFIED:20260325T143138Z
UID:10000653-1777194000-1777204800@covechurch.com
SUMMARY:Baptism Sunday
DESCRIPTION:Baptism is an outward expression of an inward faith in Jesus Christ as Savior and leader of your life. You can choose to be baptized at the 9 or 10:45am service. \nIf you are interested in taking this important step in your faith journey\, please let us know by filling out this form\, and we will follow up with you!
URL:https://covechurch.com/event/baptism-sunday/
LOCATION:Worship Center\, 366 Old Highway 431\, Owens Cross Roads\, AL
CATEGORIES:Adult Ministry,Cove Students,Kids Cove
ATTACH;FMTTYPE=image/png:https://covechurch.com/wp-content/uploads/2026/01/april-2026-baptism-FEATURED.png
END:VEVENT
BEGIN:VEVENT
DTSTART;TZID=America/Chicago:20260429T120000
DTEND;TZID=America/Chicago:20260429T130000
DTSTAMP:20260425T113731
CREATED:20260106T210348Z
LAST-MODIFIED:20260106T210348Z
UID:10000408-1777464000-1777467600@covechurch.com
SUMMARY:Midweek Prayer
DESCRIPTION:Prayer is powerful\, and when we come together to lift our praises and requests to God\, we experience His presence in a unique way. \nYou’re invited to set aside intentional time each week for prayer and intercession. We’ll gather each week for an hour and follow where the Spirit leads us through guided prayer and worship for our church\, community and world. \nCome when you’re able\, or make it part of your regular weekly rhythm. This gathering is also a great next step after 21 Days of Prayer + Fasting. \nCome expectant\, and let’s seek God together.
URL:https://covechurch.com/event/midweek-prayer/2026-04-29/
LOCATION:Worship Center\, 366 Old Highway 431\, Owens Cross Roads\, AL
CATEGORIES:Adult Ministry,Cove Students,Discipleship,Kids Cove
ATTACH;FMTTYPE=image/png:https://covechurch.com/wp-content/uploads/2026/01/midweek-prayer_Featured_2026.png
END:VEVENT
BEGIN:VEVENT
DTSTART;TZID=America/Chicago:20260503T104500
DTEND;TZID=America/Chicago:20260503T140000
DTSTAMP:20260425T113731
CREATED:20260409T190351Z
LAST-MODIFIED:20260409T190351Z
UID:10000685-1777805100-1777816800@covechurch.com
SUMMARY:Senior Sunday
DESCRIPTION:Families of seniors\, join us as we celebrate our upcoming graduates and the incredible milestone they are about to reach. \nSeniors and their families are invited to attend the 10:45am service on May 3\, followed by a lunch in The Well\, where we’ll take time to honor and encourage them. \nPlease take a moment to register and let us know you’re coming. Register here.
URL:https://covechurch.com/event/senior-sunday/
LOCATION:Cove Church\, 366 Old Highway 431\, Owens Cross Roads\, AL
CATEGORIES:Cove Students
ATTACH;FMTTYPE=image/png:https://covechurch.com/wp-content/uploads/2026/04/SeniorSnday-nohands1.png
END:VEVENT
BEGIN:VEVENT
DTSTART;TZID=America/Chicago:20260527T180000
DTEND;TZID=America/Chicago:20260527T200000
DTSTAMP:20260425T113731
CREATED:20260422T135048Z
LAST-MODIFIED:20260422T135048Z
UID:10000687-1779904800-1779912000@covechurch.com
SUMMARY:Color War
DESCRIPTION:High school students\, let’s wrap up the school year the right way\, Color War-style. Invite your friends\, wear a white shirt and come ready for a night that’s equal parts competition and chaos. \nThere’ll be games\, laughs and plenty of color flying everywhere. We’ve got dinner covered\, so show up hungry and ready to have fun. \nIt’s one of our favorite nights of the year\, and it won’t be the same without you!
URL:https://covechurch.com/event/color-war/
LOCATION:Cove Church lawn\, 366 Old Highway 431\, Owens Cross Roads\, AL\, 35763
CATEGORIES:Cove Students
ATTACH;FMTTYPE=image/png:https://covechurch.com/wp-content/uploads/2026/04/color-war-26-featured.png
END:VEVENT
BEGIN:VEVENT
DTSTART;TZID=America/Chicago:20260613T060000
DTEND;TZID=America/Chicago:20260620T220000
DTSTAMP:20260425T113731
CREATED:20251113T180227Z
LAST-MODIFIED:20251113T180227Z
UID:10000371-1781330400-1781992800@covechurch.com
SUMMARY:Colombia Mission Trip
DESCRIPTION:From June 13-20\, the Cove Students team will go to Medellín\, Colombia\, to serve with our long-term mission partner\, COSDECOL. High school students and young adults have the unique opportunity to participate and make a difference in this ministry. \nThis experience is open to rising high school sophomores through young adults aged 25 and under. The team will build relationships through soccer\, work on construction projects that support COSDECOL’s local ministry and grow spiritually through daily devotion and reflection. \nTrips like this shape hearts\, build faith and open eyes to what God is doing worldwide. \nRegistration closes January 31. \nA $250 nonrefundable deposit is required to reserve a spot. \nClick here to register. 
URL:https://covechurch.com/event/colombia-mission-trip/
LOCATION:Medellin\, Colombia
CATEGORIES:Adult Ministry,Cove Students,Missions
ATTACH;FMTTYPE=image/png:https://covechurch.com/wp-content/uploads/2025/11/colombia-mission-trip_Event-Featured-2025.png
END:VEVENT
BEGIN:VEVENT
DTSTART;TZID=America/Chicago:20260814T170000
DTEND;TZID=America/Chicago:20260816T120000
DTSTAMP:20260425T113731
CREATED:20260423T163848Z
LAST-MODIFIED:20260423T163848Z
UID:10000688-1786726800-1786881600@covechurch.com
SUMMARY:Back-to-School Retreat
DESCRIPTION:Give your student a strong start to the school year. The Back-to-School Retreat helps middle and high schoolers build friendships\, connect with trusted leaders and be grounded in the truth that they are wanted and loved by God. It sets a foundation for the year ahead. \nCove Students will be joining students from Asbury Church for the retreat. It’s an opportunity to meet new people and experience the weekend alongside a larger student community. \nRegister by July 17 to receive a t-shirt! Registration closes on August 9. Sign up here.
URL:https://covechurch.com/event/back-to-school-retreat-2/
LOCATION:Shocco Springs\, Talladega\, Alabama
CATEGORIES:Cove Students
ATTACH;FMTTYPE=image/png:https://covechurch.com/wp-content/uploads/2026/04/btsr-duotone_web26.png
END:VEVENT
END:VCALENDAR