BEGIN:VCALENDAR
VERSION:2.0
PRODID:-// - ECPv6.15.20//NONSGML v1.0//EN
CALSCALE:GREGORIAN
METHOD:PUBLISH
X-ORIGINAL-URL:https://covechurch.com
X-WR-CALDESC:Events for 
REFRESH-INTERVAL;VALUE=DURATION:PT1H
X-Robots-Tag:noindex
X-PUBLISHED-TTL:PT1H
BEGIN:VTIMEZONE
TZID:America/Chicago
BEGIN:DAYLIGHT
TZOFFSETFROM:-0600
TZOFFSETTO:-0500
TZNAME:CDT
DTSTART:20240310T080000
END:DAYLIGHT
BEGIN:STANDARD
TZOFFSETFROM:-0500
TZOFFSETTO:-0600
TZNAME:CST
DTSTART:20241103T070000
END:STANDARD
BEGIN:DAYLIGHT
TZOFFSETFROM:-0600
TZOFFSETTO:-0500
TZNAME:CDT
DTSTART:20250309T080000
END:DAYLIGHT
BEGIN:STANDARD
TZOFFSETFROM:-0500
TZOFFSETTO:-0600
TZNAME:CST
DTSTART:20251102T070000
END:STANDARD
BEGIN:DAYLIGHT
TZOFFSETFROM:-0600
TZOFFSETTO:-0500
TZNAME:CDT
DTSTART:20260308T080000
END:DAYLIGHT
BEGIN:STANDARD
TZOFFSETFROM:-0500
TZOFFSETTO:-0600
TZNAME:CST
DTSTART:20261101T070000
END:STANDARD
BEGIN:DAYLIGHT
TZOFFSETFROM:-0600
TZOFFSETTO:-0500
TZNAME:CDT
DTSTART:20270314T080000
END:DAYLIGHT
BEGIN:STANDARD
TZOFFSETFROM:-0500
TZOFFSETTO:-0600
TZNAME:CST
DTSTART:20271107T070000
END:STANDARD
END:VTIMEZONE
BEGIN:VEVENT
DTSTART;TZID=America/Chicago:20260404T000000
DTEND;TZID=America/Chicago:20260405T235959
DTSTAMP:20260425T162336
CREATED:20260228T020622Z
LAST-MODIFIED:20260320T204428Z
UID:10000679-1775260800-1775433599@covechurch.com
SUMMARY:Easter with Cove
DESCRIPTION:Easter is a story of hope. It’s not just for people who feel certain\, but for anyone who is curious\, exploring or simply open to something more. \nOur Easter gatherings are inviting and easy to join\, whether church feels familiar or completely new. Come as you are and experience powerful music\, a message of hope and a welcoming environment. \nIf you consider Cove Church home\, please take a moment and let us know which service you plan to attend. This doesn’t reserve a specific seat\, but it helps our team prepare for kids\, parking\, seating and hospitality so the experience is smooth and comfortable for everyone. Click here to let us know when you’re coming! \nService Times\, Childcare & Kids Cove/Cove Students Programming \nApril 4 | 5pm | No Childcare \nApril 5 | 8am | Nursery for children six weeks to three years old \nApril 5 |  9:30 & 11am | Nursery (six weeks to three years old) and Kids Cove programming (preschool through 5th grade) \nThere is NO middle or high school student programming on Easter. Students are encouraged to join their family or friends in the Worship Center. \nYou can also join us online on YouTube @covechurchlife at 9:30am\, with the service available on demand afterwards. \nWe look forward to celebrating Easter with you!
URL:https://covechurch.com/event/easter-with-cove/
LOCATION:Cove Church\, 366 Old Highway 431\, Owens Cross Roads\, AL
ATTACH;FMTTYPE=image/png:https://covechurch.com/wp-content/uploads/2026/03/Featured-2.png
END:VEVENT
BEGIN:VEVENT
DTSTART;TZID=America/Chicago:20260219T183000
DTEND;TZID=America/Chicago:20260219T203000
DTSTAMP:20260425T162336
CREATED:20260205T173924Z
LAST-MODIFIED:20260205T173924Z
UID:10000669-1771525800-1771533000@covechurch.com
SUMMARY:Easter Choir
DESCRIPTION:Easter is a special time to worship together\, and this year\, Cove Worship is forming an on-stage choir. We’d love for you to be part of it! \nThis experience is open to rising 6th graders through adults of all ages. No auditions are required. If you love to sing or worship through music\, this is a great way to get involved. \nRehearsals will take place on Thursdays from February 19 through March 26\, from 6:30-8:30pm\, with a dress rehearsal on March 26. Participants should plan on attending most rehearsals and all four Easter services\, arriving early for additional rehearsals before services. \nEaster Service Times: Saturday\, April 4 at 5pm & Sunday\, April 5 at 8\, 9:30 & 11am \nIf this sounds like something you’d love to be a part of\, we’d be honored to have you join the Easter Choir. Click here to sign up.
URL:https://covechurch.com/event/easter-choir/
LOCATION:Cove Church\, 366 Old Highway 431\, Owens Cross Roads\, AL
CATEGORIES:Worship
ATTACH;FMTTYPE=image/png:https://covechurch.com/wp-content/uploads/2026/02/EasterChoir_Featured.png
END:VEVENT
BEGIN:VEVENT
DTSTART;TZID=America/Chicago:20251207T163000
DTEND;TZID=America/Chicago:20251207T173000
DTSTAMP:20260425T162336
CREATED:20251029T113251Z
LAST-MODIFIED:20251029T184248Z
UID:10000368-1765125000-1765128600@covechurch.com
SUMMARY:Light Up the Cove: Community Tree Lighting
DESCRIPTION:Join us for a Cove tradition that brings our whole community together. We’ll gather on the front lawn to light the beautiful tree and welcome the Christmas season. \nKids Cove children (preschool-5th grade) will kick off the evening with Hark! The Herald Angels Sing. Enjoy hot chocolate\, cookies and a Christmas story told by a storyteller. Kids can also take part in an activity that reminds us why we celebrate Christmas. \nThe tree lighting will take place at 5pm. It’s always a special moment that fills the night with joy and wonder. \nEveryone in the community is invited! Bring your family\, friends and neighbors to share in the warmth and joy of the season. \nVolunteer signup can be found here.
URL:https://covechurch.com/event/light-up-the-cove-tree-lighting/
LOCATION:Cove Church\, 366 Old Highway 431\, Owens Cross Roads\, AL
ATTACH;FMTTYPE=image/png:https://covechurch.com/wp-content/uploads/2025/10/light-up-the-cove-2024-FEATURED.png
END:VEVENT
END:VCALENDAR