BEGIN:VCALENDAR
VERSION:2.0
PRODID:-// - ECPv6.15.20//NONSGML v1.0//EN
CALSCALE:GREGORIAN
METHOD:PUBLISH
X-ORIGINAL-URL:https://covechurch.com
X-WR-CALDESC:Events for 
REFRESH-INTERVAL;VALUE=DURATION:PT1H
X-Robots-Tag:noindex
X-PUBLISHED-TTL:PT1H
BEGIN:VTIMEZONE
TZID:America/Chicago
BEGIN:DAYLIGHT
TZOFFSETFROM:-0600
TZOFFSETTO:-0500
TZNAME:CDT
DTSTART:20250309T080000
END:DAYLIGHT
BEGIN:STANDARD
TZOFFSETFROM:-0500
TZOFFSETTO:-0600
TZNAME:CST
DTSTART:20251102T070000
END:STANDARD
BEGIN:DAYLIGHT
TZOFFSETFROM:-0600
TZOFFSETTO:-0500
TZNAME:CDT
DTSTART:20260308T080000
END:DAYLIGHT
BEGIN:STANDARD
TZOFFSETFROM:-0500
TZOFFSETTO:-0600
TZNAME:CST
DTSTART:20261101T070000
END:STANDARD
BEGIN:DAYLIGHT
TZOFFSETFROM:-0600
TZOFFSETTO:-0500
TZNAME:CDT
DTSTART:20270314T080000
END:DAYLIGHT
BEGIN:STANDARD
TZOFFSETFROM:-0500
TZOFFSETTO:-0600
TZNAME:CST
DTSTART:20271107T070000
END:STANDARD
END:VTIMEZONE
BEGIN:VEVENT
DTSTART;TZID=America/Chicago:20260503T104500
DTEND;TZID=America/Chicago:20260503T140000
DTSTAMP:20260425T162325
CREATED:20260409T190351Z
LAST-MODIFIED:20260409T190351Z
UID:10000685-1777805100-1777816800@covechurch.com
SUMMARY:Senior Sunday
DESCRIPTION:Families of seniors\, join us as we celebrate our upcoming graduates and the incredible milestone they are about to reach. \nSeniors and their families are invited to attend the 10:45am service on May 3\, followed by a lunch in The Well\, where we’ll take time to honor and encourage them. \nPlease take a moment to register and let us know you’re coming. Register here.
URL:https://covechurch.com/event/senior-sunday/
LOCATION:Cove Church\, 366 Old Highway 431\, Owens Cross Roads\, AL
CATEGORIES:Cove Students
ATTACH;FMTTYPE=image/png:https://covechurch.com/wp-content/uploads/2026/04/SeniorSnday-nohands1.png
END:VEVENT
BEGIN:VEVENT
DTSTART;TZID=America/Chicago:20260510T080000
DTEND;TZID=America/Chicago:20260524T170000
DTSTAMP:20260425T162325
CREATED:20260423T170625Z
LAST-MODIFIED:20260423T171237Z
UID:10000689-1778400000-1779642000@covechurch.com
SUMMARY:Snack Drive
DESCRIPTION:Support summer camps at the CARE Center and Huntsville Learning Center by donating individually wrapped\, nut-free snacks like chips\, popcorn\, granola bars\, crackers and fruit snacks. \nThese camps\, coordinated by our mission partners\, help students stay engaged over the summer and head into the school year ready to succeed. \nDonations will be accepted May 10-24: Monday-Thursday (9am-4pm in the church office) or on Sundays (9am-12pm in the Worship Center lobby).
URL:https://covechurch.com/event/snack-drive/
LOCATION:Cove Church\, 366 Old Highway 431\, Owens Cross Roads\, AL
CATEGORIES:Missions
ATTACH;FMTTYPE=image/png:https://covechurch.com/wp-content/uploads/2026/04/snack-drive-featured_2026-1.png
END:VEVENT
BEGIN:VEVENT
DTSTART;TZID=America/Chicago:20260601T000000
DTEND;TZID=America/Chicago:20260603T235959
DTSTAMP:20260425T162325
CREATED:20260330T184004Z
LAST-MODIFIED:20260330T184915Z
UID:10000682-1780272000-1780531199@covechurch.com
SUMMARY:VBS 2026: Kindergarten-3rd grade
DESCRIPTION:In this year’s Vacation Bible School\, children will go on an epic journey where they’ll follow the light and discover God’s Kingdom. This exciting adventure is filled with daily challenges\, team camaraderie and immersive storytelling. Along the way\, they’ll experience powerful Bible stories\, high-energy worship and hands-on activities that help them grow as brave and faithful followers of Jesus. \nThis is a great opportunity for kids to build friendships and grow in their relationship with Jesus. \nK-3 dates and times are: June 1-3 | 9am-12pm \nThe cost to attend is $10. Click here to register. Register for the grade your child will have just completed. \nRegistration closes April 30\, and spots are limited.
URL:https://covechurch.com/event/vbs-2026-kindergarten-3rd-grade/
LOCATION:Cove Church\, 366 Old Highway 431\, Owens Cross Roads\, AL
CATEGORIES:Kids Cove
ATTACH;FMTTYPE=image/png:https://covechurch.com/wp-content/uploads/2026/03/vbs-k-3.png
END:VEVENT
BEGIN:VEVENT
DTSTART;TZID=America/Chicago:20260601T000000
DTEND;TZID=America/Chicago:20260610T235959
DTSTAMP:20260425T162325
CREATED:20260219T195345Z
LAST-MODIFIED:20260330T180304Z
UID:10000674-1780272000-1781135999@covechurch.com
SUMMARY:VBS CREW
DESCRIPTION:Vacation Bible School is coming June 1-10\, and it will take all of us to make it happen. This year’s theme is Kingdom Quest\, and Kids Cove invites brave guides\, creative builders and joyful helpers to join the adventure. VBS is more than just a week of fun; it’s an opportunity to invest in kids as they learn who God is and how much He loves them. \nK-3rd grade: June 1-3 | 8am-12pm    \nPreschool: June 8-10 | 8am-12pm    \n4th-5th grade: June 8-10 | 5-8:30pm \nWhether you enjoy leading a group or serving behind the scenes\, there is a place for you on the Kingdom Quest CREW. Your presence helps create a space where kids are excited to learn about Jesus. \nJoin us in making VBS 2026 an unforgettable experience for the next generation. Register here. \nVBS child registration opens March 31 on our Events page.
URL:https://covechurch.com/event/vbs-2026-kingdom-quest-crew/
LOCATION:Cove Church\, 366 Old Highway 431\, Owens Cross Roads\, AL
CATEGORIES:Kids Cove
ATTACH;FMTTYPE=image/jpeg:https://covechurch.com/wp-content/uploads/2026/02/VBS25_Jeanie_31-1.jpg
END:VEVENT
BEGIN:VEVENT
DTSTART;TZID=America/Chicago:20260608T000000
DTEND;TZID=America/Chicago:20260610T235959
DTSTAMP:20260425T162325
CREATED:20260330T160344Z
LAST-MODIFIED:20260330T184810Z
UID:10000683-1780876800-1781135999@covechurch.com
SUMMARY:VBS 2026: Preschool
DESCRIPTION:In this year’s Vacation Bible School\, children will go on an epic journey where they’ll follow the light and discover God’s Kingdom. This exciting adventure is filled with daily challenges\, team camaraderie and immersive storytelling. Along the way\, they’ll experience powerful Bible stories\, high-energy worship and hands-on activities that help them grow as brave and faithful followers of Jesus. \nThis is a great opportunity for kids to build friendships and grow in their relationship with Jesus. \nPreschool dates and times are: June 8-10 | 9-11:30am \nThe cost to attend is $10. Click here to register. Register for the grade your child will have just completed. \nRegistration closes April 30\, and spots are limited.
URL:https://covechurch.com/event/vbs-2026-preschool/
LOCATION:Cove Church\, 366 Old Highway 431\, Owens Cross Roads\, AL
CATEGORIES:Kids Cove
ATTACH;FMTTYPE=image/png:https://covechurch.com/wp-content/uploads/2026/03/vbs-preschool.png
END:VEVENT
BEGIN:VEVENT
DTSTART;TZID=America/Chicago:20260608T000000
DTEND;TZID=America/Chicago:20260610T235959
DTSTAMP:20260425T162325
CREATED:20260330T183953Z
LAST-MODIFIED:20260331T150826Z
UID:10000684-1780876800-1781135999@covechurch.com
SUMMARY:VBS 2026: 4th & 5th grade
DESCRIPTION:In this year’s Vacation Bible School\, students will go on an epic journey where they’ll follow the light and discover God’s Kingdom. This exciting adventure is filled with daily challenges\, team camaraderie and immersive storytelling. Along the way\, they’ll experience powerful Bible stories\, high-energy worship and hands-on activities that help them grow as brave and faithful followers of Jesus. \nThis is a great opportunity for 4th and 5th graders to build friendships and grow in their relationship with Jesus. \n4th & 5th grade dates and times are: June 8-10 | 6-8:30pm \nThe cost to attend is $15. Click here to register. Register for the grade your child will have just completed. \nRegistration closes April 30\, and spots are limited. \n\n 
URL:https://covechurch.com/event/vbs-2026-4th-5th-grade/
LOCATION:Cove Church\, 366 Old Highway 431\, Owens Cross Roads\, AL
CATEGORIES:Kids Cove
ATTACH;FMTTYPE=image/png:https://covechurch.com/wp-content/uploads/2026/03/VBS-4-5-grade.png
END:VEVENT
END:VCALENDAR