BEGIN:VCALENDAR
VERSION:2.0
PRODID:-// - ECPv6.15.20//NONSGML v1.0//EN
CALSCALE:GREGORIAN
METHOD:PUBLISH
X-ORIGINAL-URL:https://covechurch.com
X-WR-CALDESC:Events for 
REFRESH-INTERVAL;VALUE=DURATION:PT1H
X-Robots-Tag:noindex
X-PUBLISHED-TTL:PT1H
BEGIN:VTIMEZONE
TZID:America/Chicago
BEGIN:DAYLIGHT
TZOFFSETFROM:-0600
TZOFFSETTO:-0500
TZNAME:CDT
DTSTART:20250309T080000
END:DAYLIGHT
BEGIN:STANDARD
TZOFFSETFROM:-0500
TZOFFSETTO:-0600
TZNAME:CST
DTSTART:20251102T070000
END:STANDARD
BEGIN:DAYLIGHT
TZOFFSETFROM:-0600
TZOFFSETTO:-0500
TZNAME:CDT
DTSTART:20260308T080000
END:DAYLIGHT
BEGIN:STANDARD
TZOFFSETFROM:-0500
TZOFFSETTO:-0600
TZNAME:CST
DTSTART:20261101T070000
END:STANDARD
BEGIN:DAYLIGHT
TZOFFSETFROM:-0600
TZOFFSETTO:-0500
TZNAME:CDT
DTSTART:20270314T080000
END:DAYLIGHT
BEGIN:STANDARD
TZOFFSETFROM:-0500
TZOFFSETTO:-0600
TZNAME:CST
DTSTART:20271107T070000
END:STANDARD
END:VTIMEZONE
BEGIN:VEVENT
DTSTART;TZID=America/Chicago:20260206T160000
DTEND;TZID=America/Chicago:20260208T140000
DTSTAMP:20260425T175735
CREATED:20251002T163655Z
LAST-MODIFIED:20251013T151932Z
UID:10000359-1770393600-1770559200@covechurch.com
SUMMARY:RoadTrip
DESCRIPTION:RoadTrip is a faith-building weekend for middle school students. The weekend will strengthen their faith while they have fun with friends. They’ll experience lively worship\, engaging teaching and meaningful small group time that provides opportunities to connect with God and other students.\n \nThe cost of camp is $200. Students who register by January 18 will receive a Roadtrip t-shirt.\n \nRegister here. Registration closes February 1. \n\nIf you are a senior interested in serving at the retreat\, please fill out this form.
URL:https://covechurch.com/event/roadtrip-2/
LOCATION:Ponderosa Bible Camp\, 1018 Co Rd 734\, Mentone\, AL\, 35984
CATEGORIES:Cove Students
ATTACH;FMTTYPE=image/png:https://covechurch.com/wp-content/uploads/2025/10/roadtrip-logo-featured.png
END:VEVENT
END:VCALENDAR