BEGIN:VCALENDAR
VERSION:2.0
PRODID:-// - ECPv6.15.20//NONSGML v1.0//EN
CALSCALE:GREGORIAN
METHOD:PUBLISH
X-ORIGINAL-URL:https://covechurch.com
X-WR-CALDESC:Events for 
REFRESH-INTERVAL;VALUE=DURATION:PT1H
X-Robots-Tag:noindex
X-PUBLISHED-TTL:PT1H
BEGIN:VTIMEZONE
TZID:America/Chicago
BEGIN:DAYLIGHT
TZOFFSETFROM:-0600
TZOFFSETTO:-0500
TZNAME:CDT
DTSTART:20240310T080000
END:DAYLIGHT
BEGIN:STANDARD
TZOFFSETFROM:-0500
TZOFFSETTO:-0600
TZNAME:CST
DTSTART:20241103T070000
END:STANDARD
BEGIN:DAYLIGHT
TZOFFSETFROM:-0600
TZOFFSETTO:-0500
TZNAME:CDT
DTSTART:20250309T080000
END:DAYLIGHT
BEGIN:STANDARD
TZOFFSETFROM:-0500
TZOFFSETTO:-0600
TZNAME:CST
DTSTART:20251102T070000
END:STANDARD
BEGIN:DAYLIGHT
TZOFFSETFROM:-0600
TZOFFSETTO:-0500
TZNAME:CDT
DTSTART:20260308T080000
END:DAYLIGHT
BEGIN:STANDARD
TZOFFSETFROM:-0500
TZOFFSETTO:-0600
TZNAME:CST
DTSTART:20261101T070000
END:STANDARD
BEGIN:DAYLIGHT
TZOFFSETFROM:-0600
TZOFFSETTO:-0500
TZNAME:CDT
DTSTART:20270314T080000
END:DAYLIGHT
BEGIN:STANDARD
TZOFFSETFROM:-0500
TZOFFSETTO:-0600
TZNAME:CST
DTSTART:20271107T070000
END:STANDARD
END:VTIMEZONE
BEGIN:VEVENT
DTSTART;TZID=America/Chicago:20260329T120000
DTEND;TZID=America/Chicago:20260329T130000
DTSTAMP:20260425T113724
CREATED:20260309T162939Z
LAST-MODIFIED:20260309T162939Z
UID:10000680-1774785600-1774789200@covechurch.com
SUMMARY:Costa Rica Info Meeting
DESCRIPTION:Have you ever wondered what it would look like to serve beyond our city? On March 29\, our Missions team will hold a brief meeting about our Costa Rica Mission Trip (October 3-10). We’ll share the purpose behind the trip and what the team will be doing. We’ll also discuss costs\, timelines and preparations. \nIf you’re interested or just exploring the idea\, you’re invited to learn more and bring your questions. \nRegistration for the trip is now open and will close on June 30.
URL:https://covechurch.com/event/costa-rica-info-meeting/
LOCATION:Worship Center Lobby
CATEGORIES:Missions
ATTACH;FMTTYPE=image/png:https://covechurch.com/wp-content/uploads/2026/03/CR-info-mtg-2024-FEATURED-1.png
END:VEVENT
BEGIN:VEVENT
DTSTART;TZID=America/Chicago:20260208T120000
DTEND;TZID=America/Chicago:20260208T130000
DTSTAMP:20260425T113724
CREATED:20260114T145903Z
LAST-MODIFIED:20260204T151331Z
UID:10000657-1770552000-1770555600@covechurch.com
SUMMARY:Family Mission Trip Info Meeting
DESCRIPTION:If you’ve ever wondered what it would be like to serve together as a family\, this is a great place to start! \nJoin our Missions Coordinator\, Shannon Bingham\, after the second service on February 8 for an informational meeting about the Family Mission Trip. The trip is April 10-12. At the info meeting\, you’ll find out more about costs and what to expect during your time there. You’ll also have the chance to ask questions and connect with others interested in this opportunity. \nRegistration is already open and closes on March 15. If you’re ready to take that next step\, you’re welcome to sign up even before the meeting. Register here.
URL:https://covechurch.com/event/family-mission-trip-info-meeting/
LOCATION:Worship Center Lobby
CATEGORIES:Adult Ministry,Cove Students,Kids Cove,Missions
ATTACH;FMTTYPE=image/png:https://covechurch.com/wp-content/uploads/2026/01/FamilyMissionTrip_InfoMeeting_Featured.png
END:VEVENT
BEGIN:VEVENT
DTSTART;TZID=America/Chicago:20251116T090000
DTEND;TZID=America/Chicago:20251116T120000
DTSTAMP:20260425T113724
CREATED:20251013T152511Z
LAST-MODIFIED:20251013T152511Z
UID:10000365-1763283600-1763294400@covechurch.com
SUMMARY:Operation Christmas Child
DESCRIPTION:This November\, you can help share the hope of Jesus with children worldwide through Operation Christmas Child\, a project of Samaritan’s Purse. \nHere’s how you can get involved: \n•Adopt an empty shoebox on November 2 or 9 \n•Return your filled box by November 16 \nEach shoebox is filled with small toys\, hygiene products and school supplies\, serving as a tangible sign of God’s love. These simple gifts are given to children affected by war\, poverty\, natural disasters\, famine and disease\, reminding them that they are not forgotten. \nOur church’s goal this year is to fill 250 boxes. Together\, we can help bring joy\, hope and the Good News of Jesus to children worldwide. \nWill you join us in making an eternal difference\, one shoebox at a time?
URL:https://covechurch.com/event/operation-christmas-child/2025-11-16/
LOCATION:Worship Center Lobby
CATEGORIES:Missions
ATTACH;FMTTYPE=image/png:https://covechurch.com/wp-content/uploads/2025/10/operation-christmas-child_featured-2025.png
END:VEVENT
BEGIN:VEVENT
DTSTART;TZID=America/Chicago:20251102T120000
DTEND;TZID=America/Chicago:20251102T133000
DTSTAMP:20260425T113724
CREATED:20250616T213047Z
LAST-MODIFIED:20251028T160916Z
UID:10000008-1762084800-1762090200@covechurch.com
SUMMARY:Discover Cove
DESCRIPTION:If you’re new to Cove or have been with us for a while and still have some questions\, we’d love for you to join us at Discover Cove! It’s a great chance to learn more about Cove Church\, explore membership and find out how you can get involved in serving. Plus\, you’ll get to meet our pastor and ministry staff. We’ll provide lunch\, and don’t worry—if you have little ones\, we offer childcare for ages from birth to pre-K. We can’t wait to see you there\, so please take a moment to register and let us know you’re coming.
URL:https://covechurch.com/event/discover-cove/
LOCATION:Worship Center Lobby
CATEGORIES:Adult Ministry
ATTACH;FMTTYPE=image/png:https://covechurch.com/wp-content/uploads/2025/06/discover-cove-featured-web.png
END:VEVENT
BEGIN:VEVENT
DTSTART;TZID=America/Chicago:20250928T090000
DTEND;TZID=America/Chicago:20250928T120000
DTSTAMP:20260425T113724
CREATED:20250922T155137Z
LAST-MODIFIED:20250922T155214Z
UID:10000353-1759050000-1759060800@covechurch.com
SUMMARY:Fall Break Bags
DESCRIPTION:Update! All fall break bags have been adopted. Please return filled bags by September 28. Thank you so much for thinking of these students this fall break. \nFall break should be a time for kids to rest and enjoy\, not to worry about where their next meal will come from. Many children in our community rely on daily school lunches\, and when school pauses\, so does their food security. \nCove Church is partnering with our local mission partner\, The CARE Center\, to provide 75 Bags of Blessings\, each filled with groceries to support a child throughout the fall break week. \nHere’s how you can help: \n•Adopt a bag at the information desk on September 14 or 21. \n•You’ll receive a shopping list of items. \n•Return your filled bag on or before September 28. \nLet’s turn generosity into nourishment and hope for kids who need it most.
URL:https://covechurch.com/event/fall-break-bags-2/
LOCATION:Worship Center Lobby
CATEGORIES:Adult Ministry,Missions
ATTACH;FMTTYPE=image/png:https://covechurch.com/wp-content/uploads/2025/09/Fall-Break-Bags-Featured-1-1-2.png
END:VEVENT
END:VCALENDAR